BEGIN:VCALENDAR
VERSION:2.0
PRODID:-//Espaço Contábil - ECPv4.4.4//NONSGML v1.0//EN
CALSCALE:GREGORIAN
METHOD:PUBLISH
X-WR-CALNAME:Espaço Contábil
X-ORIGINAL-URL:https://espacocontabilregiaocentro.com.br
X-WR-CALDESC:Events for Espaço Contábil
BEGIN:VEVENT
DTSTART;TZID=America/Sao_Paulo:20240131T140000
DTEND;TZID=America/Sao_Paulo:20240131T180000
DTSTAMP:20260425T134409
CREATED:20240112T200353Z
LAST-MODIFIED:20240112T200353Z
UID:7185-1706709600-1706724000@espacocontabilregiaocentro.com.br
SUMMARY:Atividade Imobiliária – Contabilização e Tributação [PIS/COFINS/IRPJ/CSLL] [lucro Real\, Lucro Presumido e RET]
DESCRIPTION:CONTEÚDO PROGRAMATICO\n\n \t\nINTRODUÇÃO\n\n \t\nCONCEITOS\n\n \t\nFORMAS DE TRIBUTAÇÃO (IRPJ e CSLL)\n\n\n \t\nLucro Presumido\n\n\n \t\nOpção pelo regime de Caixa\n\n\n\n \t\nLucro Real\n\n\n \t\nDiferimento da Tributação\n\n\n\n \t\nRET\n\n\n \t\nPatrimônio de Afetação\n\n \t\nPMCMV\n\n\n\n\n\n \t\nPIS/PASEP e COFINS\n\n\n \t\nRegime Cumulativo\n\n \t\nRegime Não Cumulativo\n\n\n \t\nCréditos\n\n\n\n\n\n \t\nASPECTOS CONTÁBEIS\n\n\n \t\nReconhecimento do Custo\n\n \t\nReconhecimento da Receita\n\n \t\nContabilização\n\n\n \t\nUnidades Prontas\n\n \t\nUnidades em Construção\n\n\n\n \t\nReclassificação Contábil\n\n\n \t\nCirculante x Não Circulante\n\n\n\n\n\n \t\nDEVOLUÇÃO DE VENDAS E VENDAS CANCELADAS\n\n \t\nPERMUTA DE IMÓVEIS\n\n \t\nCONTROLE PERMANENTE DE ESTOQUE\n\n \t\nLIVRO REGISTRO DE INVENTÁRIO\n\n\n 
URL:https://espacocontabilregiaocentro.com.br/evento/atividade-imobiliaria-contabilizacao-e-tributacao-pis-cofins-irpj-csll-lucro-real-lucro-presumido-e-ret/
END:VEVENT
END:VCALENDAR