BEGIN:VCALENDAR
VERSION:2.0
PRODID:-//Espaço Contábil - ECPv4.4.4//NONSGML v1.0//EN
CALSCALE:GREGORIAN
METHOD:PUBLISH
X-WR-CALNAME:Espaço Contábil
X-ORIGINAL-URL:https://espacocontabilregiaocentro.com.br
X-WR-CALDESC:Events for Espaço Contábil
BEGIN:VEVENT
DTSTART;TZID=America/Sao_Paulo:20240917T090000
DTEND;TZID=America/Sao_Paulo:20240917T120000
DTSTAMP:20260424T160132
CREATED:20240827T122701Z
LAST-MODIFIED:20240827T122701Z
UID:7377-1726563600-1726574400@espacocontabilregiaocentro.com.br
SUMMARY:AUDITÓRIO LOCADO
DESCRIPTION:
URL:https://espacocontabilregiaocentro.com.br/evento/auditorio-locado/
END:VEVENT
END:VCALENDAR