BEGIN:VCALENDAR
VERSION:2.0
PRODID:-//Espaço Contábil - ECPv4.4.4//NONSGML v1.0//EN
CALSCALE:GREGORIAN
METHOD:PUBLISH
X-WR-CALNAME:Espaço Contábil
X-ORIGINAL-URL:https://espacocontabilregiaocentro.com.br
X-WR-CALDESC:Events for Espaço Contábil
BEGIN:VEVENT
DTSTART;TZID=America/Sao_Paulo:20240111T083000
DTEND;TZID=America/Sao_Paulo:20240111T120000
DTSTAMP:20260426T002332
CREATED:20240104T172215Z
LAST-MODIFIED:20240104T172215Z
UID:7154-1704961800-1704974400@espacocontabilregiaocentro.com.br
SUMMARY:Café Contábil - edição especial
DESCRIPTION:
URL:https://espacocontabilregiaocentro.com.br/evento/cafe-contabil-edicao-especial/
END:VEVENT
END:VCALENDAR