BEGIN:VCALENDAR
VERSION:2.0
PRODID:-//Espaço Contábil - ECPv4.4.4//NONSGML v1.0//EN
CALSCALE:GREGORIAN
METHOD:PUBLISH
X-WR-CALNAME:Espaço Contábil
X-ORIGINAL-URL:https://espacocontabilregiaocentro.com.br
X-WR-CALDESC:Events for Espaço Contábil
BEGIN:VEVENT
DTSTART;TZID=America/Sao_Paulo:20240119T140000
DTEND;TZID=America/Sao_Paulo:20240119T180000
DTSTAMP:20260425T205556
CREATED:20240112T194814Z
LAST-MODIFIED:20240112T194814Z
UID:7165-1705672800-1705687200@espacocontabilregiaocentro.com.br
SUMMARY:Cruzamento de Informações - [EFD-Contribuições - DIRF - EFD-Reinf - ECD e ECF - DCTF - DCTFweb - PERDComp]
DESCRIPTION:CONTEÚDO PROGRAMATICO\n\n \tINTRODUÇÃO\n \tPRINCIPAIS PONTOS DE ATENÇÃO\n\n \tTransmissão das Informações ao Sped\n \tFinalidade das Obrigações Acessórias\n\n\n \tRETENÇÕES NA FONTE\n\n \tInformação na DIRF (EFD-Reinf)\n \tEFD-Contribuições\n \tECF\n \tPER/DCOMP\n\n\n \tDCTFWEB Declaração Pré Preenchida\n \tDCTF x ECF x PER/DCOMP\n \tECD X ECF\n\n \tECD ano calendário em curso x ECF\n \t\n\n\n\n\n \t\n\n \tECF ano calendário em curso x ECF ano calendário anterior\n\n\n\n\n\n\n\n\n\n 
URL:https://espacocontabilregiaocentro.com.br/evento/cruzamento-de-informacoes-efd-contribuicoes-dirf-efd-reinf-ecd-e-ecf-dctf-dctfweb-perdcomp/
END:VEVENT
END:VCALENDAR