BEGIN:VCALENDAR
VERSION:2.0
PRODID:-//Espaço Contábil - ECPv4.4.4//NONSGML v1.0//EN
CALSCALE:GREGORIAN
METHOD:PUBLISH
X-WR-CALNAME:Espaço Contábil
X-ORIGINAL-URL:https://espacocontabilregiaocentro.com.br
X-WR-CALDESC:Events for Espaço Contábil
BEGIN:VEVENT
DTSTART;TZID=America/Sao_Paulo:20240123T080000
DTEND;TZID=America/Sao_Paulo:20240123T173000
DTSTAMP:20260425T190606
CREATED:20240123T113851Z
LAST-MODIFIED:20240123T113851Z
UID:7196-1705996800-1706031000@espacocontabilregiaocentro.com.br
SUMMARY:Curso de ICMS - Se prepare para as atualizações de 2024
DESCRIPTION:\n\n\nPROGRAMA:\n\n\n\n\n\n\n\nVinculação do Comprovante de Pagamento Eletrônico com NFC-e\n\nFrete com Destino a Exportação\n\nTransferências Interestaduais\n\nCréditos Presumidos (Atualização do FAF - Fator de Ajuste de Fruição)\n\nIsenção de Ovos\n\nDiferimento do ICMS (Ovos)\n\nIsenção de Flores Naturais\n\nIsenção de Frutas Frescas\, Verduras e Hortaliças\n\nListagem Atualizada das Verduras e Hortaliças Isentas\n\nDiferimento do ICMS (Frutas\, Verduras e Hortaliças)\n\nFim do Crédito Presumido aos Industrializadores de Verduras e Hortaliças\n\nIsenção de Peras e Maçãs\n\nTributação do Alho\n\nTributação da Mandioca\n\nTributação das Amêndoas\, Avelãs\, Castanhas e Nozes\n\nFim da Isenção do Pão Francês (vulgo Cacetinho)\n\nFim da Isenção do Leite\n\nCesta Básica – Carga Tributária de 12% (fim da carga de 7%)\n\nCesta Básica – Exclusão e Inclusão de Produtos\n\nFim da Redução para Embalagens da Cesta Básica\n\nFim da Redução para Embalagens de Erva Mate\n\nFim da Redução para Erva Mate\n\nNova Redação para Carne Temperada de Aves e Suínos\n\nProrrogação da Isenção de Insumos do “Agronegócio”\n\nFundo de Reforma do Estado – Depósito de Valores a partir de abril/24\n\nIN RE 37/2023:\n\nIN DRP 45/98 – Título I\, Capítulo XI\, Seção 29.0\, item 29.5:\n\n\n\n\n\n\n\nINVESTIMENTO:\n\nSócio: R$ 145\,00\n\n\nNão sócio: R$ 345\,00\n\nAVALIAÇÃO:\nSerá realizada avaliação via formulário do Google.\n\nCERTIFICADO:\nSerá disponibilizado no site: www.sesconrs.com.br\, até 30 dias após o curso.\n\n\nO link para acesso a plataforma será enviado um dia antes do curso para o e-mail dos inscritos\, se caso não receber\, entrar em contato pelo e-mail cursos@sesconrs.com.br.\n\nObservações importantes:\n\n\n\n- Microfones deverão estar fechados.\n\n\n\n\n- Enviar as perguntas via chat\, que serão respondidas conforme combinado com Professor.\n\n- Por favor\, no início do curso\, escreva no chat\, nome completo e empresa\, para liberação do certificado e confirmação da presença.\n\n- O link para entrar na sala é pessoal e não pode ser compartilhado.\n\n- Se estiver conectado com outro nome ou somente nome da empresa\, favor informar no chat o nome completo que esta na inscrição para ter presença confirmada e certificado liberado. Para troca de participante\, terá que ser informado até um dia antes do curso.\n\n- Para pontuação do CRCRS\, seguir os requisitos:\n\n \tEstar previamente inscrito para participar do curso\n \tSe identificar no chat do zoom com seu nome completo\, mesmo da inscrição\n \t75% de aproveitamento (presença)\n\n\n\n
URL:https://espacocontabilregiaocentro.com.br/evento/curso-de-icms-se-prepare-para-as-atualizacoes-de-2024/
END:VEVENT
END:VCALENDAR