BEGIN:VCALENDAR
VERSION:2.0
PRODID:-//Espaço Contábil - ECPv4.4.4//NONSGML v1.0//EN
CALSCALE:GREGORIAN
METHOD:PUBLISH
X-WR-CALNAME:Espaço Contábil
X-ORIGINAL-URL:https://espacocontabilregiaocentro.com.br
X-WR-CALDESC:Events for Espaço Contábil
BEGIN:VEVENT
DTSTART;TZID=America/Sao_Paulo:20221107T140000
DTEND;TZID=America/Sao_Paulo:20221107T180000
DTSTAMP:20260425T225008
CREATED:20221108T124826Z
LAST-MODIFIED:20221108T124826Z
UID:6448-1667829600-1667844000@espacocontabilregiaocentro.com.br
SUMMARY:(EAD) Contribuições previdenciárias na construção civil
DESCRIPTION:Valor diferenciado para associados Sindicontábil Região Centro e Assinantes Lefisc!\n\n \n\nObjetivo do curso:\n\n\n\n\n\nAbordar aspectos inerentes quanto aos procedimentos\, as necessidades e exigências da Receita Federal quanto às obras e serviços de construção civil\, na regularização de obras a partir do eSocial e da EFD-Reinf e o SERO\, novo procedimento para obter a CND de obra.\n\n\n\nData: 07 de novembro de 2022\n\nHorário: 14h às 18h\n\nCarga horária: 4h\n\nMinistrante: Michele P. Menezes Karwatzki\n\n \n\n\n\nConteúdo Programático:\n1 – CONCEITOS\n1.1 – Empresa Construtora\n1.2 – Incorporadora\n1.3 – Empreitada Parcial\n1.4 - Empreitada Total\n1.5 – Subempreiteira\n\n2 – INSCRIÇÃO NO CNO\n2.1 – Obrigatoriedade de inscrição\n2.2 – Responsáveis pela inscrição no CNO\n\n3 – OBRIGAÇÕES PREVIDENCIÁRIAS NA OBRA DE CONSTRUÇÃO CIVIL\n3.1 - Responsáveis pelas obrigações previdenciárias\n3.2 - Elaboração da folha de pagamento por obra e por tomador de serviço\n3.3 - Recolhimento das contribuições previdenciárias da obra\n3.4 - Regras para preenchimento do eSocial e EFD Reinf pelo responsável da obra e pelos prestadores de serviços\n\n4 – DESONERAÇÃO DA FOLHA DE PAGAMENTO\n4.1 - Enquadramento na desoneração por grupo do CNAE\n4.2 - Regras para enquadramento pela matrícula CEI da obra\n\n5 – RETENÇÃO DE INSS SOBRE OS SERVIÇOS PRESTADOS E TOMADOS\n5.1 - Serviços sujeitos e não sujeitos a retenção\n5.2 - Alíquotas de retenção 11% e 3\,5%\n5.3 - Retenção da atividade especial\n5.4 - Dispensa da Retenção\n5.5 - Subcontratação de serviços\n5.6 - MEI nas atividades de construção civil\n\n6 – REGULARIZAÇÃO DA OBRA\n\n6.1– Aferição da obra\n6.1.1 – Apuração do valor da remuneração da obra\n6.1.2 – Apuração da mão de obra por meio do Sero\n\n6.2 - Fato gerador\n\n6.3 - Alíquotas aplicadas sobre o valor da mão de obra\n\n6.4 – Aferição indireta\n6.4.1 - Com base na nota fiscal\, fatura ou recibo de prestação de serviços\n6.4.2 - Com base na área\, na destinação\, na categoria e no tipo de obra\n6.4.3 - Percentual de equivalência\n6.4.4 - Percentual de redução das áreas complementares\n\n6.5 - Aferição de parte da obra\n6.5.1 – Procedimentos\n6.5.2 - Aferição com habite-se parcial – obra parcial declarada e obra inacabada\n\n6.6 – Decadência na Construção Civil\n6.6.1 - Procedimentos\n\n6.7 - Regularização da obra por condômino\n6.7.1 - Regularização da obra por condômino\n\n6.8.1 - Aproveitamento de remunerações vinculadas à obra anteriormente declaradas\n6.8.1 – Créditos\n6.8.2 - Inexistência de Contribuições a recolher\n6.8.3 – Fiscalização\n\n6.9 – CND – Certidão Negativa de Débito\n6.9.1 – Emissão da CND\n\n\n\nOs cursos são EAD e a gravação fica disponível para acesso durante 10 dias!\n\n \n\nEntre em contato para inscrição e informações de pagamento:\n\nE-mail: atendimento@espacocontabilregiaocentro.com.br\n\nTelefone: (55) 3222-5800\n\nWhatsApp: (55) 99631-0624\n\n\n
URL:https://espacocontabilregiaocentro.com.br/evento/ead-contribuicoes-previdenciarias-na-construcao-civil/
CATEGORIES:Cursos
END:VEVENT
END:VCALENDAR