BEGIN:VCALENDAR
VERSION:2.0
PRODID:-//Espaço Contábil - ECPv4.4.4//NONSGML v1.0//EN
CALSCALE:GREGORIAN
METHOD:PUBLISH
X-WR-CALNAME:Espaço Contábil
X-ORIGINAL-URL:https://espacocontabilregiaocentro.com.br
X-WR-CALDESC:Events for Espaço Contábil
BEGIN:VEVENT
DTSTART;TZID=America/Sao_Paulo:20240828T140000
DTEND;TZID=America/Sao_Paulo:20240829T180000
DTSTAMP:20260424T161625
CREATED:20240827T124510Z
LAST-MODIFIED:20240827T124510Z
UID:7381-1724853600-1724954400@espacocontabilregiaocentro.com.br
SUMMARY:ESCRITURAÇÃO NA EFD ICMS/IPI E REFLEXOS NA GIA/RS - INTENSIVO NA PRÁTICA
DESCRIPTION:CONTEÚDO PROGRAMÁTICO:\n1. ANTECIPAÇÃO DO ICMS (DIFERENCIAL)\n1.1. Escrituração do débito\n1.2. Escrituração do crédito\n2. DIFERENCIAL DE ALÍQUOTAS (DIFAL)\n2.1. Escrituração do débito (sem substituição tributária)\n3. DIFERENCIAL DE ALÍQUOTAS NAS OPERAÇÕES DESTINADAS A CONSUMIDOR FINAL NÃO CONTRIBUINTE DO ICMS\n4. SUBSTITUIÇÃO TRIBUTÁRIA\n4.1. Escrituração pelo Substituto em operações internas relativo ao ICMS próprio e ICSM ST\n4.1.1. Escrituração do AMPARA/RS\n4.2. Escrituração pelo substituído operações internas\n4.3. Escrituração pelo substituto/substituído operações interestaduais com incidência do ICMS ST\n4.3.1. Por MVA\n4.3.2. Por diferencial\n4.4. Regularização do ICMS ST relativos a aquisições de outra UF por MVA\n4.4.1. Com regime especial de pagamento do imposto\n4.4.2. Sem regime especial de pagamento do imposto\n4.5. Regularização do ICMS ST relativos a aquisições de outra UF pelo Diferencial\n4.6. Regularização do ICMS ST relativo à importação\n4.6.1. Com regime especial de pagamento do imposto\n4.6.2. Sem regime especial de pagamento do imposto\n4.7. Escrituração do imposto relativo a ST devido no fato gerador e não pago\n4.8. Crédito sobre aquisições de combustíveis – Regime Monofásico do ICMS\n4.9. Devolução com substituição tributária\n4.10. Ressarcimento/Adjudicação – Livro III\, Art.23\n5. DEMAIS OPERAÇÕES SEM SUBSTITUIÇÃO TRIBUTÁRIA\n5.1. Importação – débito e crédito\n5.1.1 Pagamento no fato gerador\n5.1.2 Compensação com saldo credor\n5.1.3. Com regime especial de pagamento\n5.2. Créditos presumidos\n5.2.1. Com FAF (Fator de ajuste de fruição)\n5.2.2. Sem FAF (Fator de ajuste de fruição)\n5.2.3. Com CHP (por patrocínio)\n5.3. Compensação por pagamento indevido ou a maior\n5.4. Devolução 5.5. Escrituração de empresas submetidas ao REF\n5.5.1. Pagamento no fato gerador\n5.5.2. Devido e não pago no fato gerador\n5.5.3. Escrituração pelo adquirente de mercadorias adquiridas de Contribuinte no REF\n5.6. Regularização pelo adquirente das operações com Diferimento\n5.6.1. Diferimento Total\n5.6.2. Diferimento parcial\n5.7. Escrituração do AMPARA/RS (sem substituição tributária)
URL:https://espacocontabilregiaocentro.com.br/evento/escrituracao-na-efd-icms-ipi-e-reflexos-na-gia-rs-intensivo-na-pratica-2/
END:VEVENT
END:VCALENDAR