BEGIN:VCALENDAR
VERSION:2.0
PRODID:-//Espaço Contábil - ECPv4.4.4//NONSGML v1.0//EN
CALSCALE:GREGORIAN
METHOD:PUBLISH
X-WR-CALNAME:Espaço Contábil
X-ORIGINAL-URL:https://espacocontabilregiaocentro.com.br
X-WR-CALDESC:Events for Espaço Contábil
BEGIN:VEVENT
DTSTART;TZID=America/Sao_Paulo:20240828T140000
DTEND;TZID=America/Sao_Paulo:20240828T180000
DTSTAMP:20260424T160812
CREATED:20240827T124348Z
LAST-MODIFIED:20240827T124348Z
UID:7379-1724853600-1724868000@espacocontabilregiaocentro.com.br
SUMMARY:INCORPORAÇÃO E CONSTRUÇÃO IMOBILIÁRIA - ASPECTOS CONTÁBEIS\, TRIBUTÁRIOS E SOCIETÁRIOS
DESCRIPTION:CONTEÚDO PROGRAMATICO\n1 CONSIDERAÇÕES INICIAIS\n2 INCORPORAÇÃO IMOBILIÁRIA\n2.1 Conceito e características\n2.2 Regulação jurídica e normativas aplicáveis\n3 ASPECTOS CONTÁBEIS NA INCORPORAÇÃO IMOBILIÁRIA\n3.1 Reconhecimento de receitas e despesas\n3.2 Mensuração de ativos e passivos\n3.3 Tratamento contábil de terrenos\, obras em andamento e unidades concluídas\n3.4 Aplicação das normas contábeis brasileiras (CPCs) e IFRS\n4 ASPECTOS TRIBUTÁRIOS NA INCORPORAÇÃO E CONSTRUÇÃO IMOBILIÁRIA\n4.1 LUCRO REAL\n4.1.1 IRPJ e CSLL\n4.1.2 PIS e COFINS\n4.2 LUCRO PRESUMIDO\n4.2.1 IRPJ e CSLL\n4.2.2 PIS e COFINS\n5 REGIMES ESPECIAIS DE TRIBUTAÇÃO: RET (REGIME ESPECIAL DE TRIBUTAÇÃO) E SUAS IMPLICAÇÕES\n6 PATRIMÔNIO DE AFETAÇÃO\n6.1 Conceito e importância na incorporação imobiliária\n6.2 Aspectos contábeis e tributários do patrimônio de afetação\n6.3 Vantagens e desvantagens do regime de afetação\n7 ASPECTOS SOCIETÁRIOS\n7.1 Estruturas societárias comuns em projetos de incorporação\n7.1.1 SPEs\n7.1.2 SCPs\n7.1.3 Condomínios de empresas\n7.2 Distribuição de lucros\n 7.3 Papel dos sócios e administradores na incorporação imobiliária\n8 OBRIGAÇÕES ACESSORIAS
URL:https://espacocontabilregiaocentro.com.br/evento/incorporacao-e-construcao-imobiliaria-aspectos-contabeis-tributarios-e-societarios/
CATEGORIES:Cursos
END:VEVENT
END:VCALENDAR