BEGIN:VCALENDAR
VERSION:2.0
PRODID:-//Espaço Contábil - ECPv4.4.4//NONSGML v1.0//EN
CALSCALE:GREGORIAN
METHOD:PUBLISH
X-WR-CALNAME:Espaço Contábil
X-ORIGINAL-URL:https://espacocontabilregiaocentro.com.br
X-WR-CALDESC:Events for Espaço Contábil
BEGIN:VEVENT
DTSTART;TZID=America/Sao_Paulo:20240814T140000
DTEND;TZID=America/Sao_Paulo:20240815T180000
DTSTAMP:20260424T062944
CREATED:20240813T123534Z
LAST-MODIFIED:20240813T123534Z
UID:7336-1723644000-1723744800@espacocontabilregiaocentro.com.br
SUMMARY:Intensivo de Cálculos Trabalhista - Todas as Rotinas
DESCRIPTION:Conteúdo Programático:\n\n01 – FOLHA DE PAGAMENTO\n\n1.1 – Proventos\n\n1.1.2 - Salário\, Remuneração\, Piso Convencional e Piso Estadual1.1.3 – Cálculo Jornada de trabalho diária\, semanal e mensal\n\n1.1.4 - Descanso Semanal Remunerado\n\n1.1.5 – Cálculo do Salário Proporcional ao Tempo Laborado\n\n1.1.6 – Cálculo de Faltas injustificadas e seus reflexos1.1.7 – Cálculo de Horas Extras(50%\, 100%) e seus reflexos\n\n1.1.8 – Cálculo do Adicional Noturno e hora noturna e seus reflexos\n\n1.1.9 – Adicionais de Insalubridade e Periculosidade1.1.10 – Comissionistas1.1.11 – Prêmios\n\n1.1.12 – Ajuda de custo e Diárias para viagem\n\n1.1.13 – Auxílio Combustível\n\n1.2 – Descontos\n\n1.2.1 – Cálculo da Contribuição Previdenciária\n\n1.2.2 – Cálculo do IRRF\n\n1.2.3 – Cálculo do Vale transporte\n\n1.2.4 – Cálculo do Vale alimentação\n\n1.2.5 – Cálculo da Pensão Alimentícia\n\n1.2.6 – Plano de Saúde\n\n1.2.7 – Contribuições Sindicais\n\n02 - APURAÇÃO DA GUIA DE INSS SOBRE A FOLHA DE PAGAMENTO\n\n2.1 - Empresas gerais\n\n2.2 - Optantes pelo Simples Nacional\n\n2.2 – MEI\n\n2.3 – Desoneração Sobre a Folha de Pagamento\n\n2.4 – Opção pela contribuição Previdenciária – Atividade Rural\n\n03 - CÁLCULO FGTS MENSAL\n\n04 - FÉRIAS4.1 – Direito\n\n4.2. – Fracionamento de Férias\n\n4.3 – Cálculo de Férias ( salários fixos\, variáveis e comissões)\n\n4.4 – Abono Pecuniário (com cálculo)\n4.5 – Férias em Dobro (com cálculo)\n4.6 – Base de Cálculo de INSS e FGTS\n5 - FÉRIAS COLETIVAS\n5.1 - Critérios para a concessão de férias coletivas\n5.2 – Férias coletivas para Empregados com Menos de 01 ano\n\n5.3 – Abono Pecuniário\n6 - 13º SALÁRIO\n6.1 – Direito e Forma de Pagamento\n6.2 – Cálculo da 1ª e 2ª Parcelas\n6.3 – Ajuste de Salários Variáveis\n\n6.4 – Incidências tributárias\n7 – RESCISÃO DE CONTRATO DE TRABALHO\n\n7.1 - Aviso Prévio\n7.1.1 – Aviso Prévio Trabalhado e Indenizado - Disposições Gerais\n7.1.2 – Aviso Prévio Proporcional Cálculo\n7.2 - Cálculo de Rescisão Contratual (verbas rescisórias e FGTS)\n7.2.1 – Contrato de Experiência (término na extinção e antecipado)\n7.2.2 – Dispensa sem Justa Causa\n7.2.3 – Pedido de Demissão\n7.2.4 – Dispensa por Justa Causa do Empregado\n\n7.2.5 – Dispensa por Justa Causa do Empregador\n7.2.5 – Falecimento do Empregado\n7.2.6 – Rescisão por Mútuo Acordo\n\n8 - FGTS RESCISÓRIO\n\n8.1 - FGTS Mês de Rescisão\n\n8.2 - FGTS Multa Rescisória\n\n8.3 - Códigos e motivos de saque FGTS\n\n9 – SEGURO DESEMPREGO\n\n9.1 – Direito\n\n9.2 – Quantidade de Parcelas\n\n9.3 – Valor das Parcelas
URL:https://espacocontabilregiaocentro.com.br/evento/intensivo-de-calculos-trabalhista-todas-as-rotinas/
CATEGORIES:Cursos
END:VEVENT
END:VCALENDAR