BEGIN:VCALENDAR
VERSION:2.0
PRODID:-//Espaço Contábil - ECPv4.4.4//NONSGML v1.0//EN
CALSCALE:GREGORIAN
METHOD:PUBLISH
X-WR-CALNAME:Espaço Contábil
X-ORIGINAL-URL:https://espacocontabilregiaocentro.com.br
X-WR-CALDESC:Events for Espaço Contábil
BEGIN:VEVENT
DTSTART;TZID=America/Sao_Paulo:20220901T140000
DTEND;TZID=America/Sao_Paulo:20220902T180000
DTSTAMP:20260425T173850
CREATED:20220826T180838Z
LAST-MODIFIED:20220826T181226Z
UID:6340-1662040800-1662141600@espacocontabilregiaocentro.com.br
SUMMARY:(LEFISC EAD) Atividade rural na pessoa jurídica (Aspectos Contábeis e Tributários)
DESCRIPTION:Valor diferenciado para associados Sindicontábil Região Centro e Assinantes Lefisc!\n\n \n\nObjetivo do curso:\n\n\n\n\n\nAbordar os principais aspectos relacionados à tributação (IRPJ\, CSLL\, PIS e COFINS) e as normas contábeis aplicáveis às atividades rurais para a pessoa jurídica.\n\n\n\nData: 01 e 02 de setembro de 2022\n\nHorário: 14h as 18h\n\nCarga horária: 4h\n\nMinistrante: Maria Ilene Imlau Winter\n\n \n\n\n\nConteúdo Programático:\n\n\n \t\n\n \t\nAspectos Tributários\n\n\n \t\nAtividades Consideradas Rurais\n\n \t\nAtividades Não Consideradas Rurais\n\n \t\nReceita Bruta\n\n \t\nSegregação das Receitas\n\n \t\nDespesas de Custeio\n\n \t\nResultado da Atividade Rural\n\n \t\nLucro Real\n\n\n \t\nLucro Real Trimestral x Lucro Real Anual\n\n \t\nDeterminação do Lucro Real\n\n \t\nCompensação de Prejuízos Fiscais\n\n \t\nDespesas Dedutíveis\n\n\n\n \t\nLucro Presumido\n\n\n \t\nPercentual de Presunção\n\n\n\n \t\nSimples Nacional\n\n\n \t\nEnquadramento\n\n \t\nLimitações\n\n \t\nTributos Abrangidos\n\n\n\n \t\nPIS e COFINS\n\n\n \t\nAlíquotas Básicas\n\n \t\nAlíquota Zero\n\n \t\nAplicação da Suspensão\n\n \t\nCréditos Presumidos\n\n \t\nTratamento dos Saldos dos Créditos\n\n\n\n \t\nDCTF\n\n \t\nECD\n\n \t\nECF\n\n \t\nEFD-CONTRIBUIÇÕES\n\n \t\nPER/DCOMP\n\n\n\n \t\nAspectos Contábeis\n\n\n \t\nNormas Aplicáveis\n\n \t\nCultura Temporária e Permanente e a NBC TG 29(R2) Ativo Biológico e Produto Agrícola\n\n\n \t\nReconhecimento de Custos\n\n \t\nAvaliação a Valor Justo\n\n \t\nDepreciação\n\n \t\nControle de Estoque\n\n\n\n\n\n\n\n\n\n\n\n\nOs cursos são EAD e a gravação fica disponível para acesso durante 10 dias!\n\n \n\nEntre em contato para inscrição e informações de pagamento:\n\nE-mail: atendimento@espacocontabilregiaocentro.com.br\n\nTelefone: (55) 3222-5800\n\nWhatsApp: (55) 99631-0624\n\n\n
URL:https://espacocontabilregiaocentro.com.br/evento/lefisc-ead-atividade-rural-na-pessoa-juridica-aspectos-contabeis-e-tributarios-2/
CATEGORIES:Cursos
END:VEVENT
END:VCALENDAR