BEGIN:VCALENDAR
VERSION:2.0
PRODID:-//Espaço Contábil - ECPv4.4.4//NONSGML v1.0//EN
CALSCALE:GREGORIAN
METHOD:PUBLISH
X-WR-CALNAME:Espaço Contábil
X-ORIGINAL-URL:https://espacocontabilregiaocentro.com.br
X-WR-CALDESC:Events for Espaço Contábil
BEGIN:VEVENT
DTSTART;TZID=America/Sao_Paulo:20220909T140000
DTEND;TZID=America/Sao_Paulo:20220909T180000
DTSTAMP:20260425T173248
CREATED:20220826T181459Z
LAST-MODIFIED:20220826T181459Z
UID:6344-1662732000-1662746400@espacocontabilregiaocentro.com.br
SUMMARY:(LEFISC EAD) Compensação cruzada (após a DCTFWEB) como compensar débitos fazendários X créditos previdenciários
DESCRIPTION:Valor diferenciado para associados Sindicontábil Região Centro e Assinantes Lefisc!\n\n \n\nObjetivo do curso:\n\n\n\n\n\nAbordar os aspectos práticos da compensação cruzada\, envolvendo débitos fazendários x créditos previdenciários (ou vice-versa). Elencar todas as situações em que é permitida a compensação cruzada\, bem como todas as exigências e cuidados necessários para a correta elaboração da PER/DCOMPWeb.\n\n\n\nData: 09 de setembro de 2022\n\nHorário: 14h as 18h\n\nCarga horária: 4h\n\nMinistrante: Maria Ilene Imlau Winter\n\n \n\n\n\nConteúdo Programático:\n\n\n \t\n1. O QUE É COMPENSAÇÃO CRUZADA?\n2.QUEM PODERÁ EFETUAR A COMPENSAÇÃO CRUZADA?\n3.É POSSÍVEL A UTILIZAÇÃO DE SALDO NEGATIVO DE IRPJ?\n4.CRÉDITOS DE PIS\, COFINS E IPI PODEM SER UTILIZADOS PARA COMPENSAR DÉBITOS PREVIDENCIÁRIOS?\n5.SALDOS DE RETENÇÃO PREVIDENCIÁRIA NA FONTE PODEM SER UTILIZADOS PARA COMPENSAR PIS E COFINS?\n6.EMPRESA DO SIMPLES NACIONAL PODE REALIZAR COMPENSAÇÃO CRUZADA?\n7.QUAIS OS PROCEDIMENTOS ANTERIORES A COMPENSAÇÃO CRUZADA?\n7.1.QUANDO FAZER PEDIDO DE RESTITUIÇÃO\n7.2.QUANDO FAZER PEDIDO DE RESSARCIMENTO\n7.3.QUANDO NÃO PRECISA FAZER NENHUM PEDIDO PRÉVIO\n8.CRÉDITOS ORIUNDOS DE DECISÃO JUDICIAL PODEM SER UTILIZADOS NA COMPENSAÇÃO CRUZADA?\n9.CRÉDITOS VINCULADOS À EXPORTAÇÃO\, PIS\, COFINS E REINTEGRA PODEM SER UTILIZADOS?\n10.CRÉDITOS PRESUMIDOS DE PIS E COFINS SÃO PASSÍVEIS DE COMPENSAÇÃO CRUZADA?\n11.COMO PROCEDER QUANDO O CRÉDITO DISPONÍVEL É UTILIZADO EM MAIS DE UM PER/DCOMP?\n12.QUAIS OS PROCEDIMENTOS NAS OBRIGAÇÕES ACESSÓRIAS: DCTF; DCTFWEB; EFD-CONTRIBUIÇÕES?\n13.QUAL PRAZO PARA REALIZAÇÃO DA COMPENSAÇÃO? HÁ ATUALIZAÇÃO DOS VALORES A SEREM COMPENSADOS?\n\n\n\n\n\nOs cursos são EAD e a gravação fica disponível para acesso durante 10 dias!\n\n \n\nEntre em contato para inscrição e informações de pagamento:\n\nE-mail: atendimento@espacocontabilregiaocentro.com.br\n\nTelefone: (55) 3222-5800\n\nWhatsApp: (55) 99631-0624\n\n\n
URL:https://espacocontabilregiaocentro.com.br/evento/lefisc-ead-compensacao-cruzada-apos-a-dctfweb-como-compensar-debitos-fazendarios-x-creditos-previdenciarios-2/
CATEGORIES:Cursos
END:VEVENT
END:VCALENDAR