BEGIN:VCALENDAR
VERSION:2.0
PRODID:-//Espaço Contábil - ECPv4.4.4//NONSGML v1.0//EN
CALSCALE:GREGORIAN
METHOD:PUBLISH
X-WR-CALNAME:Espaço Contábil
X-ORIGINAL-URL:https://espacocontabilregiaocentro.com.br
X-WR-CALDESC:Events for Espaço Contábil
BEGIN:VEVENT
DTSTART;TZID=America/Sao_Paulo:20221110T140000
DTEND;TZID=America/Sao_Paulo:20221110T180000
DTSTAMP:20260426T021503
CREATED:20221108T125442Z
LAST-MODIFIED:20221108T125442Z
UID:6452-1668088800-1668103200@espacocontabilregiaocentro.com.br
SUMMARY:(LEFISC EAD) EFD-REINF 2023 – Informações das retenções CSLL\, PIS e COFINS
DESCRIPTION:Valor diferenciado para associados Sindicontábil Região Centro e Assinantes Lefisc!\n\n \n\nObjetivo do curso:\n\n\n\n\n\nPreparação para implantação da nova versão da EFD-Reinf que contemplará as retenções no âmbito federal (IR\, CSLL\, PIS\, COFINS)\, considerando a substituição da DIRF e da DCTF\n\n\n\nData: 10 de novembro de 2022\n\nHorário: 14h às 18h\n\nCarga horária: 4h\n\nMinistrante: Maria Ilene Imlau Winter\n\n \n\n\n\nConteúdo Programático:\n\n \t\nVersão atual x Nova Versão 2.1.1.1\n\n \t\nEventos da EFD-Reinf\n\n\n \t\nInclusão da Série R-4000\n\n\n\n \t\nPrevisão de implantação\n\n \t\nNatureza dos Rendimentos\n\n \t\nRendimentos do Trabalho e da Previdência Social\n\n \t\nRendimentos Decorrentes de Decisão Judicial\n\n \t\nRendimentos do Capital\n\n \t\nRendimentos de Direitos (Royalties)\n\n \t\nPrêmios de Demais Rendimentos\n\n \t\nRendimentos Pagos/Creditados à Pessoa Jurídica\n\n \t\nDemais Rendimentos de Residentes e Domiciliados no Exterior\n\n \t\nRendimentos Pagos/Creditados por Órgãos da Administração Federal\n\n \t\nRendimentos Pagos/Creditados por Órgãos da Administração Estadual/Municipal\n\n \t\nPagamento a Beneficiário Não Identificado (R-4040)\n\n \t\nRendimentos à Pessoa Jurídica – Retenção no Recebimento (R-4080)\n\n\n\n \t\nForma de Rendimentos para Beneficiários Residentes no Exterior\n\n \t\nInformações sobre Beneficiários de Rendimentos no Exterior\n\n \t\nTabelas Auxiliares\n\n \t\nRegras de Validação\n\n \t\nRegistro R-4010 Pagamentos/Créditos Beneficiário Pessoa Física\n\n \t\nRegistro R-4020 Pagamentos/Créditos Beneficiário Pessoa Jurídica\n\n \t\nFechamento/reabertura dos eventos da Série R-4000 (R-4099)\n\n \t\nExclusão de Eventos (R-9000)\n\n \t\nBases e Tributos – Retenções na Fonte (R-9005)\n\n \t\nConsolidação das retenções na Fonte (R-9015)\n\n \t\nObrigatoriedade\n\n \t\nSubstituição da DIRF pela EFD-REINF\n\n \t\nSubstituição da DCTF pela DCTFWeb\n\n\n\n\n\nOs cursos são EAD e a gravação fica disponível para acesso durante 10 dias!\n\n \n\nEntre em contato para inscrição e informações de pagamento:\n\nE-mail: atendimento@espacocontabilregiaocentro.com.br\n\nTelefone: (55) 3222-5800\n\nWhatsApp: (55) 99631-0624\n\n\n
URL:https://espacocontabilregiaocentro.com.br/evento/lefisc-ead-efd-reinf-2023-informacoes-das-retencoes-csll-pis-e-cofins/
CATEGORIES:Cursos
END:VEVENT
END:VCALENDAR