BEGIN:VCALENDAR
VERSION:2.0
PRODID:-//Espaço Contábil - ECPv4.4.4//NONSGML v1.0//EN
CALSCALE:GREGORIAN
METHOD:PUBLISH
X-WR-CALNAME:Espaço Contábil
X-ORIGINAL-URL:https://espacocontabilregiaocentro.com.br
X-WR-CALDESC:Events for Espaço Contábil
BEGIN:VEVENT
DTSTART;TZID=America/Sao_Paulo:20221011T140000
DTEND;TZID=America/Sao_Paulo:20221011T180000
DTSTAMP:20260426T023154
CREATED:20221003T133438Z
LAST-MODIFIED:20221003T133438Z
UID:6392-1665496800-1665511200@espacocontabilregiaocentro.com.br
SUMMARY:(LEFISC EAD) Férias individuais e coletivas e décimo terceiro salário - Aspectos teóricos e práticos
DESCRIPTION:Valor diferenciado para associados Sindicontábil Região Centro e Assinantes Lefisc!\n\n \n\nObjetivo do curso:\n\n\n\n\n\nOrientar a correta aplicação da legislação trabalhista e previdenciária nos procedimentos de cálculos das rotinas trabalhistas\, evitando futuros passivos de fiscalização trabalhista e previdenciária\n\n\n\nData: 11 de outubro de 2022\n\nHorário: 14h as 18h\n\nCarga horária: 4h\n\nMinistrante: Michele P. Menezes Karwatzki\n\n \n\n\n\nConteúdo Programático:\n1 – FÉRIAS INDIVIDUAIS\n1.1 – Período Aquisitivo\n\n1.2 – Período Concessivo\n\n1.3 – Concessão das Férias\n\n1.4 – Fracionamento das Férias\n\n1.5 – Início do Gozo das Férias\n\n1.6 – Contagem de Avos\n\n1.7 – Redução do período de gozo das férias - Faltas Injustificadas\n\n1.8 – Aviso de Férias\n\n1.9 – Prazo de pagamento das férias\n\n1.10 – Abono Pecuniário\n\n1.11 – Férias em Dobro\n\n1.12 – Perda do Direito de Férias\n\n1.13 – Cancelamento das Férias\n\n1.14 – Ocorrências durante o período de Gozo de Férias\n\n1.15 – Férias e aviso prévio – Inválido\n\n1.16 – Anotação na Carteira de Trabalho Digital\n\n1.17 – Multa\n\n1.18 – Prescrição\n\n1.19 – Remuneração das férias\n\n2 – FÉRIAS COLETIVAS\n\n2.1 – Fracionamento\n\n2.2 - Início do Gozo das Férias\n\n2.3 - Requisitos para a Concessão\n\n2.4 - Empregados afastados da atividade no curso das férias coletivas\n\n2.5 - Apuração das férias coletivas\n\n2.5.1 - Empregados com mais de 12 (Doze) meses de serviço\n\n2.5.2 - Empregados com menos de 12 (doze) meses de serviço\n\n2.6 - Abono Pecuniário - Férias Coletivas\n\n2.7 - Anotação na Carteira de Trabalho Digital\n\n3 – DÉCIMO TERCEIRO SALÁRIO\n\n3.1 - Quem tem Direito\n\n3.2 – Quem não tem Direito\n\n3.3 – Empregados não disponíveis durante todos os meses\n\n3.4 – Faltas - interferência no 13º salário\n\n3.5 – Férias - Adiantamento do 13º salário\n\n3.6 – Data de Pagamento\n\n3.7 – Forma de Pagamento\n\n3.8 – Pagamento Conjunto das Duas Parcelas\n\n3.9 – Afastamento do empregado no curso do ano\n\n3.9.1 - Auxílio-Doença Previdenciário\n\n3.9.2 - Auxílio-Doença Acidentário\n\n3.9.3 – Salário-Maternidade\n\n3.9.4 - Serviço Militar Obrigatório\n\n3.9.5 - Empregado Preso ou Recluso\n\n3.10 – Cálculo da 1º Parcela – 13º Salário\n\n3.11 – Cálculo da 2º Parcela – 13º Salário\n\n3.12 – Incidência Tributária – INSS / FGTS / IRRF\n\n3.13 – Décimo Terceiro Variavel – ajuste\n3.14 – Penalidades\n\n\n\n\nOs cursos são EAD e a gravação fica disponível para acesso durante 10 dias!\n\n \n\nEntre em contato para inscrição e informações de pagamento:\n\nE-mail: atendimento@espacocontabilregiaocentro.com.br\n\nTelefone: (55) 3222-5800\n\nWhatsApp: (55) 99631-0624\n\n\n
URL:https://espacocontabilregiaocentro.com.br/evento/lefisc-ead-ferias-individuais-e-coletivas-e-decimo-terceiro-salario-aspectos-teoricos-e-praticos/
CATEGORIES:Cursos
END:VEVENT
END:VCALENDAR