BEGIN:VCALENDAR
VERSION:2.0
PRODID:-//Espaço Contábil - ECPv4.4.4//NONSGML v1.0//EN
CALSCALE:GREGORIAN
METHOD:PUBLISH
X-WR-CALNAME:Espaço Contábil
X-ORIGINAL-URL:https://espacocontabilregiaocentro.com.br
X-WR-CALDESC:Events for Espaço Contábil
BEGIN:VEVENT
DTSTART;TZID=America/Sao_Paulo:20221110T140000
DTEND;TZID=America/Sao_Paulo:20221110T180000
DTSTAMP:20260426T035013
CREATED:20221108T130202Z
LAST-MODIFIED:20221108T130202Z
UID:6454-1668088800-1668103200@espacocontabilregiaocentro.com.br
SUMMARY:(LEFISC EAD) Lucro Real na prática: aprenda a calcular passo a passo - GRAVADO
DESCRIPTION:Valor diferenciado para associados Sindicontábil Região Centro e Assinantes Lefisc!\n\n \n\nObjetivo do curso:\n\n\n\n\n\nDemonstrar aos participantes de forma objetiva a apuração do IRPJ e CSLL\, na sistemática do Lucro Real (Anual ou Trimestral) através de exercícios práticos\, desde os conceitos básicos até a apuração final com os devidos ajustes previstos na legislação.\n\n\n\nData: 10 de novembro de 2022\n\nHorário: 14h às 18h\n\nCarga horária: 4h\n\nMinistrante: Maria Ilene Imlau Winter\n\n \n\n\n\nConteúdo Programático:\n1. Opção ou Obrigatoriedade\n\n2. Apuração Anual ou Trimestral\n\n3. Códigos e Prazos de Recolhimento\n\n4. Momento da Opção\n\n5. Alíquotas IRPJ e CSLL\n\n6. Lucro Real Anual\n6.1. Estimativas Mensais\n6.2. Suspensão/Redução\n6.3. Vedação de Compensação das Estimativas\n\n7. Base de Cálculo\n7.1. Receita Bruta\n7.2. Demais Receitas\n7.3. Ganho de Capital\n\n8. Despesas Dedutíveis e Indedutíveis\n\n9. Exclusões e Adições\n\n10. Lalur\n\n11. Lacs\n\n12. Incentivos Fiscais\n\n13. Compensação de Prejuízos\n13.1. Prejuízos Fiscais Operacionais\n13.2. Prejuízos Não Operacionais\n\n14. Bônus de Adimplência Fiscal\n\n15. Saldo Negativo e Base Negativa\n15.1. Compensação ou Restituição\n\n16. Distribuição de Lucros\n\n17. Obrigações Acessórias\n17.1. DCTF - Informação débitos\n17.2. ECD – Aspectos Gerais\n17.3. ECF - Aspectos Gerais\n\n18. Exercícios Práticos\n\n\n\n\nOs cursos são EAD e a gravação fica disponível para acesso durante 10 dias!\n\n \n\nEntre em contato para inscrição e informações de pagamento:\n\nE-mail: atendimento@espacocontabilregiaocentro.com.br\n\nTelefone: (55) 3222-5800\n\nWhatsApp: (55) 99631-0624\n\n\n
URL:https://espacocontabilregiaocentro.com.br/evento/lefisc-ead-lucro-real-na-pratica-aprenda-a-calcular-passo-a-passo-gravado/
CATEGORIES:Cursos
END:VEVENT
END:VCALENDAR