BEGIN:VCALENDAR
VERSION:2.0
PRODID:-//Espaço Contábil - ECPv4.4.4//NONSGML v1.0//EN
CALSCALE:GREGORIAN
METHOD:PUBLISH
X-WR-CALNAME:Espaço Contábil
X-ORIGINAL-URL:https://espacocontabilregiaocentro.com.br
X-WR-CALDESC:Events for Espaço Contábil
BEGIN:VEVENT
DTSTART;TZID=America/Sao_Paulo:20221109T140000
DTEND;TZID=America/Sao_Paulo:20221109T170000
DTSTAMP:20260426T002214
CREATED:20221108T125154Z
LAST-MODIFIED:20221108T125154Z
UID:6450-1668002400-1668013200@espacocontabilregiaocentro.com.br
SUMMARY:(LEFISC EAD) Regime de escala 12 X 36 – Aspectos Práticos e Teóricos
DESCRIPTION:Valor diferenciado para associados Sindicontábil Região Centro e Assinantes Lefisc!\n\n \n\nObjetivo do curso:\n\n\n\n\n\nO curso tem o objetivo do conhecimento de todas as características e aplicações relacionadas à Jornada de trabalho 12 x 36. Entenderá desde os aspectos legais referentes ao assunto\, até tipos de remuneração\, intervalo usufruído\, intervalo intrajornada\, intervalo indenizado\, descanso semanal remunerado\, feriados trabalhados\, horas extras\, adicionais\, convenção coletiva\, aviso prévio\, férias e muitos outros pontos importantes.\n\n\n\nData: 09 de outubro de 2022\n\nHorário: 14h às 17h\n\nCarga horária: 3h\n\nMinistrante: Michele P. Menezes Karwatzki\n\n \n\n\n\nConteúdo Programático:\n\n1 – Conceito da Jornada 12 x 36 – Antes e após a reforma trabalhista\n\n2 – Jornada de Trabalho diária\, semanal e mensal\n\n3 – Cálculo da Jornada de Trabalho 12 x 36\n\n3.1 – Jornada 12 x 36 – Diurna\, Noturna e Mista\n\n3.1 – Intervalos a serem concedidos\n\n3.2 – Horas Extras\n\n3.3 – Adicional Noturno\n\n3.4 – Descanso Semanal Remunerado\n\n3.5 - Trabalho em Domingos e Feriados\n\n3.6 – Atestados Médicos\n\n3.7 – Faltas Justificadas\n\n3.8 – Faltas Injustificadas\n\n4 – Atividades Insalubres\n\n5 – Trabalhador Doméstico\n\n6 – Aspectos a serem Observados com relação jornada 12 x 36\n\n6.1 – Cálculo da Folha de Pagamento\n\n6.2 – Cálculo de Férias\n\n6.3 – Cálculo do Décimo Terceiro Salário\n\n6.4 – Cálculo das Verbas Rescisórias\n\n\n\nOs cursos são EAD e a gravação fica disponível para acesso durante 10 dias!\n\n \n\nEntre em contato para inscrição e informações de pagamento:\n\nE-mail: atendimento@espacocontabilregiaocentro.com.br\n\nTelefone: (55) 3222-5800\n\nWhatsApp: (55) 99631-0624\n\n\n
URL:https://espacocontabilregiaocentro.com.br/evento/lefisc-ead-regime-de-escala-12-x-36-aspectos-praticos-e-teoricos/
CATEGORIES:Cursos
END:VEVENT
END:VCALENDAR