BEGIN:VCALENDAR
VERSION:2.0
PRODID:-//Espaço Contábil - ECPv4.4.4//NONSGML v1.0//EN
CALSCALE:GREGORIAN
METHOD:PUBLISH
X-WR-CALNAME:Espaço Contábil
X-ORIGINAL-URL:https://espacocontabilregiaocentro.com.br
X-WR-CALDESC:Events for Espaço Contábil
BEGIN:VEVENT
DTSTART;TZID=America/Sao_Paulo:20221024T140000
DTEND;TZID=America/Sao_Paulo:20221024T180000
DTSTAMP:20260426T021139
CREATED:20221003T140220Z
LAST-MODIFIED:20221003T140220Z
UID:6406-1666620000-1666634400@espacocontabilregiaocentro.com.br
SUMMARY:(LEFISC EAD) RS-06218 SST x e-Social
DESCRIPTION:Valor diferenciado para associados Sindicontábil Região Centro e Assinantes Lefisc!\n\n \n\nObjetivo do curso:\n\n\n\n\n\nO presente curso tem como objetivo prestar as informações pertinentes a Saúde e Segurança no Trabalho – SST quanto a alimentação do sistema do eSocial.\nSerão abordadas informações importantes referentes às Legislações Trabalhistas e Previdenciárias que deverão ser atendidas\, e como as diferenças nestes critérios e o seu desconhecimento\, podem onerar o empregador.\nPara alertar quanto a estes problemas\, serão enfatizados os cuidados relacionados à insalubridade e periculosidade\, e sobre a aposentadoria especial\, quais são os documentos necessários para atender as exigências de cada uma delas e como os preenchimentos corretos destas informações podem auxiliar as empresas no controle e gerenciamento de suas rotinas de SST.\n\n\n\nData: 24 de outubro de 2022\n\nHorário: 14h as 18h\n\nCarga horária: 4h\n\nMinistrante: Alexandre J. Corrêa\n\n \n\n\n\nConteúdo Programático:\nSaúde e Segurança no Trabalho  x e-Social\n\n e-Social na Saúde e Segurança do Trabalho - SST (Incluindo alterações nas NRs) 1 PONTO\n1. eSocial\n1.1. Conceito\n1.2. Objetivos\n1.3. Faseamento/Novo Cronograma\n1.4. Quem está obrigado ao eSocial\n1.6. Transmissão dos Arquivos\n1.7. Informações Gerais sobre os Eventos de Saúde e Segurança do Trabalho - SST\n1.8. Simplificação do eSocial\n\n2. Gestão da Saúde e Segurança do Empregado no Ambiente do Trabalho\n2.1. A importância da Área de Segurança e Medicina do Trabalho nas Empresas\n2.2. Medicina do Trabalho - Conceito\n2.3 .Segurança do Trabalho –Conceito\n2.4. Composição destas Áreas nas Empresas\n\n3. Saúde e Segurança no Trabalho\n3.1. Legislações aplicadas a SST\n3.2. Normas Regulamentadoras - Visão Geral\n3.3 Principais alterações nas NR 1\, NR 7\, NR 9 e NR 18\n\n4. Programas\, Laudos e Normas de Saúde e Segurança do Trabalho\n4.1. PCMSO – Exames médicos exigidos e a periodicidade de realização\n4.2. PPRA – Mostra os riscos ambientais que deverão ser enviadas no eSocial\n4.3. PGR - Programa de Gerenciamento de Riscos (novo)\n4.4. LTCAT\n4.5. Laudo Ergonômico\n4.6. PPP / PPP Eletrônico\n4.7. Adicional de Insalubridade\n4.8. Adicional de Periculosidade\n4.9. Aposentadoria Especial\n\n5. CAT\n5.1. NTEP - Nexo Técnico Epidemiológico Previdenciário\n5.2. FAP – Fator Acidentário de Prevenção\n\n6. Eventos de SST após a Simplificação do eSocial\n6.1. S-2210 - Comunicação de Acidente de Trabalho (CAT através do esocial)\n6.2. S-2220 - Monitoramento da Saúde do Trabalhador ( PCMSO)\n6.3. S-2240 - Condições Ambientais do Trabalho - Agentes Nocivos (PPRA)\n\n7. Outros eventos relevantes envolvendo informações de SST\n7.1. S-2200 - Cadastramento Inicial do Vínculo e Admissão\n7.2. S-2206 – Alteração de Contrato de Trabalho\n7.3 .S-2230 – Afastamento Temporário\n7.4. S-1200 - Remuneração de trabalhador vinculado ao RGPS\n7.5. S-2299 - Desligamento\n\n8. Tabelas da Área de Segurança e Saúde do Trabalho - SST\n8.1. Tabela 2 -Financiamento de Aposent. Esp. e Redução de Tempo de Contribuição\n8.2. Tabela 13 - Parte do Corpo atingida\n8.3. Tabela 14 - Agente causador do Acidente de Trabalho\n8.4. Tabela 15 - Agente Causador - Situação Geradora de Doença Profissional\n8.5. Tabela 17 - Descrição da Natureza da Lesão\n8.6. Tabela 18 - Motivos de Afastamento\n8.7. Tabela 24 - Agentes Nocivos e Atividades – Aposentadoria Especial\n8.8. Tabela 27 - Procedimentos Diagnósticos\n8.9. Tabela 28 - Treinamentos\, Capacitações e Exercícios Simulados\n\n9. Penalidades\n\n\n\nOs cursos são EAD e a gravação fica disponível para acesso durante 10 dias!\n\n \n\nEntre em contato para inscrição e informações de pagamento:\n\nE-mail: atendimento@espacocontabilregiaocentro.com.br\n\nTelefone: (55) 3222-5800\n\nWhatsApp: (55) 99631-0624\n\n\n
URL:https://espacocontabilregiaocentro.com.br/evento/lefisc-ead-rs-06218-sst-x-e-social-2/
CATEGORIES:Cursos
END:VEVENT
END:VCALENDAR