BEGIN:VCALENDAR
VERSION:2.0
PRODID:-//Espaço Contábil - ECPv4.4.4//NONSGML v1.0//EN
CALSCALE:GREGORIAN
METHOD:PUBLISH
X-WR-CALNAME:Espaço Contábil
X-ORIGINAL-URL:https://espacocontabilregiaocentro.com.br
X-WR-CALDESC:Events for Espaço Contábil
BEGIN:VEVENT
DTSTART;TZID=America/Sao_Paulo:20221027T140000
DTEND;TZID=America/Sao_Paulo:20221028T180000
DTSTAMP:20260425T224850
CREATED:20221003T143500Z
LAST-MODIFIED:20221003T143500Z
UID:6410-1666879200-1666980000@espacocontabilregiaocentro.com.br
SUMMARY:(LEFISC EAD) RS-06406 Operações e escrituração fiscal RS
DESCRIPTION:Valor diferenciado para associados Sindicontábil Região Centro e Assinantes Lefisc!\n\n \n\nObjetivo do curso:\n\n\n\n\n\nEste curso visa o esclarecimento da legislação do ICMS e orientar os participantes sobre as dúvidas do dia-a-dia relacionado as Operações Fiscais e a correta Escrituração Fiscal de forma prática e objetiva\, focando as situações que afetam diretamente a operacionalidade fiscal das empresas\, trazendo exemplos de situações reais.\n\n\n\nData: 27 e 28 de outubro de 2022\n\nHorário: 14h as 18h\n\nCarga horária: 4h\n\nMinistrante: Adriani Maria Bourscheid\n\n \n\n\n\nConteúdo Programático:\n1. CONCEITOS BÁSICOS\n1.1. Incidência\n1.2. Fato Gerador\n1.3. Benefícios Fiscais\n1.4. Base de Cálculo\n1.5. Alíquota\n1.6. Débito Próprio\n2. SUBSTITUIÇÃO TRIBUTÁRIA\n2.1. Margem de Valor Agregado\n2.2. Base de Cálculo\n2.3. Débito da Substituição Tributária\n3. AMPARA/RS - FUNDO DE PROTEÇÃO E AMPARO SOCIAL DO ESTADO DO RIO GRANDE DO SUL\n3.1. Cálculo\n4. CONSIDERAÇÕES SOBRE DOCUMENTOS FISCAIS ELETRÔNICOS\n4.1. Para Circulação de mercadorias\n4.2. Para Prestação de Serviço\n5. OPERAÇÕES FISCAIS\n5.1. Transferência Saldo Credor\n5.1.1 Para Outro Estabelecimento do Contribuinte\n5.1.2 Para Estabelecimento de Terceiros\n5.2. Bens do Ativo Permanente\n5.2.1. Venda\n5.2.2. Transferência\n5.3. Remessa para Exposição ou Feira\n5.4. Brindes\n5.5. Doação\n5.6. Bonificação\n5.7. Amostra Grátis\n5.8. Demonstração\n5.9. Mostruário\n5.10. Transferência de Mercadorias/Produção\n5.11. Industrialização por Encomenda\n5.12. Venda fora do Estabelecimento\n5.13. Venda Entrega Futura\n5.14. Venda de Mercadoria Sem Substituição Tributária\n5.15. Venda de Mercadoria com Substituição Tributária por Substituto Tributário\n5.16. Venda de Mercadoria com Substituição Tributária por Substituído Tributário\n5.17. Venda de Mercadoria Sujeita ao AMPARA/RS\n5.18. Diferimento Total\n5.19. Diferimento Parcial\n5.20. Devoluções de Mercadorias não Sujeitas a Substituição Tributária\n5.21. Devoluções de Mercadorias Sujeitas a Substituição Tributária\n5.22. Transporte Iniciado no RS\n5.23. Transporte Iniciado noutra Unidade da Federação\n5.24. Operações de Consignação\n5.24.1. Consignação Mercantil\n5.24.2. Consignação Industrial\n5.25. Operações com Mercadorias Entregue em Local Diverso\n5.25.1. Destinatário Não-Contribuinte\n5.25.2. Mercadoria Adquirida por Órgão ou Entidades da Administração Pública\n5.25.3. Industrialização por Conta e Ordem\n5.25.4. Operações de Armazém Geral e Depósito Fechado\n6. IMPOSTOS DEVIDOS NAS ENTRADAS INTERESTADUAIS\n6.1. Diferencial de Alíquotas\n6.2. Antecipação Tributária sem Encerramento\n6.3. Antecipação Tributária com Encerramento\n\n\n\n\n \n\nEntre em contato para inscrição e informações de pagamento:\n\nE-mail: atendimento@espacocontabilregiaocentro.com.br\n\nTelefone: (55) 3222-5800\n\nWhatsApp: (55) 99631-0624\n\n\n
URL:https://espacocontabilregiaocentro.com.br/evento/lefisc-ead-rs-06406-operacoes-e-escrituracao-fiscal-rs/
CATEGORIES:Cursos
END:VEVENT
END:VCALENDAR