BEGIN:VCALENDAR
VERSION:2.0
PRODID:-//Espaço Contábil - ECPv4.4.4//NONSGML v1.0//EN
CALSCALE:GREGORIAN
METHOD:PUBLISH
X-WR-CALNAME:Espaço Contábil
X-ORIGINAL-URL:https://espacocontabilregiaocentro.com.br
X-WR-CALDESC:Events for Espaço Contábil
BEGIN:VEVENT
DTSTART;TZID=America/Sao_Paulo:20220831T140000
DTEND;TZID=America/Sao_Paulo:20220831T180000
DTSTAMP:20260425T154748
CREATED:20220826T181051Z
LAST-MODIFIED:20220826T181051Z
UID:6342-1661954400-1661968800@espacocontabilregiaocentro.com.br
SUMMARY:(LEFISC EAD) RS-06556 Retenções de Tributos Federais (IR\, CSLL\, PIS E COFINS)
DESCRIPTION:Valor diferenciado para associados Sindicontábil Região Centro e Assinantes Lefisc!\n\n \n\nObjetivo do curso:\n\n\n\n\n\nDemonstrar aos participantes como efetuar corretamente as retenções\, conforme a legislação tributária\, abordando também os aspectos relativos às informações das nas obrigações acessórias (DCTF\, EFD-Contribuições\, ECF\, DIRF/EFD-Reinf)\n\n\n\nData: 31 de agosto de 2022\n\nHorário: 14h as 18h\n\nCarga horária: 4h\n\nMinistrante: Equipe LEFISC\n\n \n\n\n\nConteúdo Programático:\n\n \tRetenção de Imposto de Renda\n\n \tImposto de Renda – Pessoa Física\n\n \tImposto de Renda na prestação de serviço assalariado\n \tImposto de Renda na prestação de serviço autônomo\n \tRetenção nos resgates de previdência privada\n \tRendimentos decorrentes de serviços de transportes de cargas e pessoas\n \tImposto de Renda recolhido no carnê-leão\n\n\n \tImposto de Renda -Pessoa Jurídica\n\n \tRendimentos Recebidos por Pessoa Jurídica\n \tServiços sujeitos a retenção na fonte\n \tServiços de limpeza\, conservação\, segurança e locação de mão de obra\n \tComissões e Corretagens\n \tServiços de propaganda e publicidade\n \tServiços prestados por cooperativas de trabalho\n\n\n\n\n \tRetenção das contribuições federais: CSLL\, PIS e COFINS\n\n \tResponsável pelo desconto das contribuições\n \tEspécies de Retenção\n \tServiços sujeitos a retenção\n \tFato gerador\n \tTratamento dos valores retidos\n \tDestaque na nota fiscal\n \tSimples Nacional\n\n\n \tRetenção Órgãos Públicos Federais\n \tRetenções Órgãos Públicos Municipais e Estaduais\n \tObrigações Acessórias\n\n \tEFD-Contribuições\n\n \tUtilização da Retenções de PIS/COFNS\n\n\n \tECF\n\n \tUtilização das Retenções do IR e CSLL\n\n\n \tEFD-Reinf\n\n \tSubstituição da DIRF\n \tNoções Gerais sobre nova EFD-Reinf\n\n\n\n\n\n\n\n\nOs cursos são EAD e a gravação fica disponível para acesso durante 10 dias!\n\n \n\nEntre em contato para inscrição e informações de pagamento:\n\nE-mail: atendimento@espacocontabilregiaocentro.com.br\n\nTelefone: (55) 3222-5800\n\nWhatsApp: (55) 99631-0624\n\n\n
URL:https://espacocontabilregiaocentro.com.br/evento/lefisc-ead-rs-06556-retencoes-de-tributos-federais-ir-csll-pis-e-cofins/
CATEGORIES:Cursos
END:VEVENT
END:VCALENDAR