BEGIN:VCALENDAR
VERSION:2.0
PRODID:-//Espaço Contábil - ECPv4.4.4//NONSGML v1.0//EN
CALSCALE:GREGORIAN
METHOD:PUBLISH
X-WR-CALNAME:Espaço Contábil
X-ORIGINAL-URL:https://espacocontabilregiaocentro.com.br
X-WR-CALDESC:Events for Espaço Contábil
BEGIN:VEVENT
DTSTART;TZID=America/Sao_Paulo:20240912T090000
DTEND;TZID=America/Sao_Paulo:20240912T120000
DTSTAMP:20260424T161620
CREATED:20240910T122506Z
LAST-MODIFIED:20240910T122506Z
UID:7384-1726131600-1726142400@espacocontabilregiaocentro.com.br
SUMMARY:Operações com Imóveis x Reforma Tributária
DESCRIPTION:CONTEÚDO PROGRAMATICO\n\n \t\nEmenda Constitucional nº 132\, de 2024\n\n \t\nRegulamentação da Reforma Tributária\n\n \t\nCompra e Venda de Imóveis e Locação\n\n\n \t\nRedutor de Ajuste\n\n \t\nRedutor Social\n\n\n\n \t\nRegime Especial de Tributação – RET\n\n\n \t\nPMCVM\n\n \t\nPatrimônio de Afetação\n\n\n\n \t\nComparativo Tributário\n\n\n \t\nSistema Atual x Novo Cenário\n\n\n\n
URL:https://espacocontabilregiaocentro.com.br/evento/operacoes-com-imoveis-x-reforma-tributaria/
CATEGORIES:Cursos
END:VEVENT
END:VCALENDAR