BEGIN:VCALENDAR
VERSION:2.0
PRODID:-//Espaço Contábil - ECPv4.4.4//NONSGML v1.0//EN
CALSCALE:GREGORIAN
METHOD:PUBLISH
X-WR-CALNAME:Espaço Contábil
X-ORIGINAL-URL:https://espacocontabilregiaocentro.com.br
X-WR-CALDESC:Events for Espaço Contábil
BEGIN:VEVENT
DTSTART;TZID=America/Sao_Paulo:20220830T173000
DTEND;TZID=America/Sao_Paulo:20220830T183000
DTSTAMP:20260425T141010
CREATED:20220825T174149Z
LAST-MODIFIED:20220825T174149Z
UID:6318-1661880600-1661884200@espacocontabilregiaocentro.com.br
SUMMARY:Papo Contábil - Admar Pozzobom
DESCRIPTION:O Espaço Contábil promove um circuito de bate-papos com os candidatos da região ao pleito de 2022. Iniciando a programação\, no dia 30/08 receberemos o candidato Admar Pozzobom\, do PSDB. O Papo Contábil segue com agenda até setembro\, com participação dos candidatos Everton Falk\, Ricardo Jobim\, Giuseppe Riesgo\, Valdeci Oliveira\, Roberto Fantinel\, Patric Luderitz e Evandro Behr. Os próximos encontros serão divulgados em breve.\n\nA conversa inicia às 17h30 e as vagas são limitadas. Você pode fazer a sua inscrição entrando em contato conosco por e-mail (atendimento@espacocontabilregiaocentro.com.br) ou por Whatsapp (55) 99631-0624.
URL:https://espacocontabilregiaocentro.com.br/evento/papo-contabil-admar-pozzobom/
LOCATION:Rua Alameda Santiago do Chile\, 115\, 3º andar\, Santa Maria\, Rio Grande do Sul\, 97050-685\, Brasil
CATEGORIES:Eventos
END:VEVENT
END:VCALENDAR