BEGIN:VCALENDAR
VERSION:2.0
PRODID:-//Espaço Contábil - ECPv4.4.4//NONSGML v1.0//EN
CALSCALE:GREGORIAN
METHOD:PUBLISH
X-WR-CALNAME:Espaço Contábil
X-ORIGINAL-URL:https://espacocontabilregiaocentro.com.br
X-WR-CALDESC:Events for Espaço Contábil
BEGIN:VEVENT
DTSTART;TZID=America/Sao_Paulo:20220927T163000
DTEND;TZID=America/Sao_Paulo:20220927T173000
DTSTAMP:20260425T210047
CREATED:20220905T131356Z
LAST-MODIFIED:20220905T131356Z
UID:6363-1664296200-1664299800@espacocontabilregiaocentro.com.br
SUMMARY:Papo Contábil com Paulo Ricardo
DESCRIPTION:O Espaço Contábil promove um circuito de bate-papos com os candidatos da região ao pleito de 2022. Dando continuidade à programação\, no dia 27/09 receberemos o candidato a deputado estadual pelo PSB\, Paulo Ricardo. O Papo Contábil segue com participação do candidato Evandro Behr.\n\nA conversa inicia às 16h30 e as vagas são limitadas. Você pode fazer a sua inscrição entrando em contato conosco por e-mail (atendimento@espacocontabilregiaocentro.com.br) ou por Whatsapp (55) 99631-0624.
URL:https://espacocontabilregiaocentro.com.br/evento/papo-contabil-com-paulo-ricardo/
LOCATION:Rua Alameda Santiago do Chile\, 115\, 3º andar\, Santa Maria\, Rio Grande do Sul\, 97050-685\, Brasil
CATEGORIES:Eventos
END:VEVENT
END:VCALENDAR