BEGIN:VCALENDAR
VERSION:2.0
PRODID:-//Espaço Contábil - ECPv4.4.4//NONSGML v1.0//EN
CALSCALE:GREGORIAN
METHOD:PUBLISH
X-WR-CALNAME:Espaço Contábil
X-ORIGINAL-URL:https://espacocontabilregiaocentro.com.br
X-WR-CALDESC:Events for Espaço Contábil
BEGIN:VEVENT
DTSTART;TZID=America/Sao_Paulo:20240813T140000
DTEND;TZID=America/Sao_Paulo:20240813T180000
DTSTAMP:20260424T054431
CREATED:20240813T123410Z
LAST-MODIFIED:20240813T123410Z
UID:7334-1723557600-1723572000@espacocontabilregiaocentro.com.br
SUMMARY:Retenções Tributárias: IR\, PIS\, Cofins\, CSLL (Empresa privada e órgãos públicos de Acordo com a IN RFB nº 2.145/2023)
DESCRIPTION:CONTEÚDO PROGRAMATICO\n\n1 - Retenção de IR\n\n1.1 Empresa Privada\n\n1.1.1 fato gerador\n\n1.1.2 retenção na contratação de serviços\n\n1.1.3 base de cálculo\n\n1.1.4 alíquotas\n\n1.1.5 lista de serviços e bens sujeitos à retenção\n\n1.1.6 prazo de recolhimento\n\n1.1.7 dispensa de retenção\n\n1.1.8 código DARF\n\n1.2 Órgãos Públicos\n\n1.2.1 cenário antes da Instrução Normativa RFB nº 2.145/2023\n\n1.2.2 fato gerador\n\n1.2.3 retenção na contratação de serviços e aquisição de mercadorias\n\n1.2.4 base de cálculo\n\n1.2.5 alíquotas\n\n1.2.6 lista de serviços e bens sujeitos à retenção\n\n1.2.7 prazo de recolhimento\n\n1.2.8 dispensa de retenção\n\n1.2.9 código DARF\n\n1.3 SIMPLES NACIONAL\n\n2 - RETENÇÃO DE PIS\, COFINS E CSLL\n\n2.1 Empresa Privada\n\n2.2.1 Base Legal: Lei nº 10.833/2003\n\n2.2.2 fato gerador\n\n2.2.3 lista de serviços\n\n2.2.4 base de cálculo\n\n2.2.5 alíquotas\n\n2.2.6 dispensa de retenção\n\n2.2 ORGÃOS PUBLICOS\n\n2.3 SIMPLES NACIONAL\n\n3 - PONDERAÇÕES SOBRE O EFD-REINF
URL:https://espacocontabilregiaocentro.com.br/evento/retencoes-tributarias-ir-pis-cofins-csll-empresa-privada-e-orgaos-publicos-de-acordo-com-a-in-rfb-no-2-145-2023/
CATEGORIES:Cursos
END:VEVENT
END:VCALENDAR