BEGIN:VCALENDAR
VERSION:2.0
PRODID:-//Espaço Contábil - ECPv4.4.4//NONSGML v1.0//EN
CALSCALE:GREGORIAN
METHOD:PUBLISH
X-WR-CALNAME:Espaço Contábil
X-ORIGINAL-URL:https://espacocontabilregiaocentro.com.br
X-WR-CALDESC:Events for Espaço Contábil
BEGIN:VEVENT
DTSTART;TZID=America/Sao_Paulo:20240123T080000
DTEND;TZID=America/Sao_Paulo:20240123T100000
DTSTAMP:20260425T170732
CREATED:20240122T115055Z
LAST-MODIFIED:20240122T115055Z
UID:7190-1705996800-1706004000@espacocontabilregiaocentro.com.br
SUMMARY:Reunião com a Coordenação do Espaço Contábil
DESCRIPTION:
URL:https://espacocontabilregiaocentro.com.br/evento/reuniao-com-a-coordenacao-do-espaco-contabil/
LOCATION:Rua Alameda Santiago do Chile\, 115\, 3º andar\, Santa Maria\, Rio Grande do Sul\, 97050-685\, Brasil
END:VEVENT
END:VCALENDAR