BEGIN:VCALENDAR
VERSION:2.0
PRODID:-//Espaço Contábil - ECPv4.4.4//NONSGML v1.0//EN
CALSCALE:GREGORIAN
METHOD:PUBLISH
X-WR-CALNAME:Espaço Contábil
X-ORIGINAL-URL:https://espacocontabilregiaocentro.com.br
X-WR-CALDESC:Events for Espaço Contábil
BEGIN:VEVENT
DTSTART;TZID=America/Sao_Paulo:20231114T190000
DTEND;TZID=America/Sao_Paulo:20231114T213000
DTSTAMP:20260426T034804
CREATED:20231113T115323Z
LAST-MODIFIED:20231113T115323Z
UID:7143-1699988400-1699997400@espacocontabilregiaocentro.com.br
SUMMARY:Tour UFN + EC
DESCRIPTION:
URL:https://espacocontabilregiaocentro.com.br/evento/tour-ufn-ec/
END:VEVENT
END:VCALENDAR