BEGIN:VCALENDAR
VERSION:2.0
PRODID:-//Espaço Contábil - ECPv4.4.4//NONSGML v1.0//EN
CALSCALE:GREGORIAN
METHOD:PUBLISH
X-WR-CALNAME:Espaço Contábil
X-ORIGINAL-URL:https://espacocontabilregiaocentro.com.br
X-WR-CALDESC:Events for Espaço Contábil
BEGIN:VEVENT
DTSTART;TZID=America/Sao_Paulo:20241125T140000
DTEND;TZID=America/Sao_Paulo:20241125T180000
DTSTAMP:20260419T130030
CREATED:20241121T201339Z
LAST-MODIFIED:20241121T201339Z
UID:7443-1732543200-1732557600@espacocontabilregiaocentro.com.br
SUMMARY:Visita Acadêmicos UFSM
DESCRIPTION:Visita dos alunos da Professora Cláudia ao Espaço Contábil. 
URL:https://espacocontabilregiaocentro.com.br/evento/visita-academicos-ufsm/
END:VEVENT
END:VCALENDAR